BEGIN:VCALENDAR
VERSION:2.0
PRODID:-//Aligned Yoga with Jenny Rhodes - ECPv6.15.20//NONSGML v1.0//EN
CALSCALE:GREGORIAN
METHOD:PUBLISH
X-ORIGINAL-URL:https://alignedyoga.net
X-WR-CALDESC:Events for Aligned Yoga with Jenny Rhodes
REFRESH-INTERVAL;VALUE=DURATION:PT1H
X-Robots-Tag:noindex
X-PUBLISHED-TTL:PT1H
BEGIN:VTIMEZONE
TZID:America/Denver
BEGIN:DAYLIGHT
TZOFFSETFROM:-0700
TZOFFSETTO:-0600
TZNAME:MDT
DTSTART:20220313T090000
END:DAYLIGHT
BEGIN:STANDARD
TZOFFSETFROM:-0600
TZOFFSETTO:-0700
TZNAME:MST
DTSTART:20221106T080000
END:STANDARD
BEGIN:DAYLIGHT
TZOFFSETFROM:-0700
TZOFFSETTO:-0600
TZNAME:MDT
DTSTART:20230312T090000
END:DAYLIGHT
BEGIN:STANDARD
TZOFFSETFROM:-0600
TZOFFSETTO:-0700
TZNAME:MST
DTSTART:20231105T080000
END:STANDARD
BEGIN:DAYLIGHT
TZOFFSETFROM:-0700
TZOFFSETTO:-0600
TZNAME:MDT
DTSTART:20240310T090000
END:DAYLIGHT
BEGIN:STANDARD
TZOFFSETFROM:-0600
TZOFFSETTO:-0700
TZNAME:MST
DTSTART:20241103T080000
END:STANDARD
END:VTIMEZONE
BEGIN:VEVENT
DTSTART;TZID=America/Denver:20231023T180000
DTEND;TZID=America/Denver:20231023T200000
DTSTAMP:20260423T222730
CREATED:20230921T035919Z
LAST-MODIFIED:20231022T163654Z
UID:15120-1698084000-1698091200@alignedyoga.net
SUMMARY:Rest & Restore October
DESCRIPTION:Deep Rest and Relaxation \nMonday October 23rd from 6-8pm \nEnjoy an evening of deep restoration at Home Retreat Studio in a blissful 90 min candlelight restorative yoga practice with mantra & sound healing in the warm & cozy studio sanctuary with radiant floor heat throughout. \nTop off  your sublime experience with a cleansing soak in the cedar hot tub under the protection of  beloved Mama Cedar\, and share a hot tea and homemade snack in welcoming community. \nYou’ll leave feeling so completely nourished and refreshed! And you can wear your pajamas! Seriously! \nCome 5 mins early to give yourself time to set up for your blissful restorative rest.
URL:https://alignedyoga.net/event/rest-restore-2/
LOCATION:The Home Retreat Studio\, 319 NW 81ST ST\, SEATTLE\, WA\, 98117\, United States
CATEGORIES:Classes,Event,Workshops
ATTACH;FMTTYPE=image/jpeg:https://alignedyoga.net/wp-content/uploads/2022/12/4776294A-15AA-4B11-B9AE-5E647FB8EB96_1_201_a-e1672100621638.jpeg
END:VEVENT
END:VCALENDAR