BEGIN:VCALENDAR
VERSION:2.0
PRODID:-//Aligned Yoga with Jenny Rhodes - ECPv6.15.20//NONSGML v1.0//EN
CALSCALE:GREGORIAN
METHOD:PUBLISH
X-ORIGINAL-URL:https://alignedyoga.net
X-WR-CALDESC:Events for Aligned Yoga with Jenny Rhodes
REFRESH-INTERVAL;VALUE=DURATION:PT1H
X-Robots-Tag:noindex
X-PUBLISHED-TTL:PT1H
BEGIN:VTIMEZONE
TZID:America/Denver
BEGIN:DAYLIGHT
TZOFFSETFROM:-0700
TZOFFSETTO:-0600
TZNAME:MDT
DTSTART:20250309T090000
END:DAYLIGHT
BEGIN:STANDARD
TZOFFSETFROM:-0600
TZOFFSETTO:-0700
TZNAME:MST
DTSTART:20251102T080000
END:STANDARD
BEGIN:DAYLIGHT
TZOFFSETFROM:-0700
TZOFFSETTO:-0600
TZNAME:MDT
DTSTART:20260308T090000
END:DAYLIGHT
BEGIN:STANDARD
TZOFFSETFROM:-0600
TZOFFSETTO:-0700
TZNAME:MST
DTSTART:20261101T080000
END:STANDARD
BEGIN:DAYLIGHT
TZOFFSETFROM:-0700
TZOFFSETTO:-0600
TZNAME:MDT
DTSTART:20270314T090000
END:DAYLIGHT
BEGIN:STANDARD
TZOFFSETFROM:-0600
TZOFFSETTO:-0700
TZNAME:MST
DTSTART:20271107T080000
END:STANDARD
END:VTIMEZONE
BEGIN:VEVENT
DTSTART;TZID=America/Denver:20260227T160000
DTEND;TZID=America/Denver:20260304T113000
DTSTAMP:20260419T144345
CREATED:20250501T060734Z
LAST-MODIFIED:20260106T021340Z
UID:17823-1772208000-1772623800@alignedyoga.net
SUMMARY:Big Island Yoga Retreat 2026
DESCRIPTION:*SOLD OUT* \nYOU ARE THE MEDICINE \nReclaim your Whole Self on this  Elevated Immersive Yoga Retreat \n6 Days in Paradise! February 27-March 4\, 2026 \nThe sweet\, potent energy of the Big Island\,  Hawaii awaits you! \nGift yourself a week in paradise where every amenity is provided in this stunningly picturesque\, secluded private retreat location where divine feminine energy calls you in to embrace and reclaim yourself in the most nurturing\, elevating lands -in the vortex energy of this ideally situated retreat property. \nWater Spirit Sanctuary  is nestled above Kealakekua Bay\, protected by the powerful and majestic Pali Kapu O Keōua cliffs\, “forbidden cliffs of Keōua”\, the ancient burial place of Hawaiian royalty and is a powerful energy vortex \nIts sacred Balinese style 5 acre sanctum welcomes you with breathtaking ocean views\, sweeping sunsets and a unique charm designed for spacious comfort and relaxation. Playful spinner dolphins are a regular sight in the bay\, as is the occasional humpback whale sighting! \nJust an 8 minute walk down the hill to swimming & snorkeling beaches and short drives to Big Island Bees honey farm\, the Kona Coffee Living History Farm \,& sample fresh Kona coffee at the Royal Kona Coffee Mill & Lava Tube! \nCatered healthy vegetarian meals served fresh daily\,  with sunset dining\, and plenty of time to explore the island’s treasures at your leisure. \nOne dreamy week in Hawaii will enrich your senses\, enliven your spirit and deeply heal every aspect of your being\, leaving you both entranced and deeply nourished. \nThis retreat is designed to awaken your spirit and connect with your essence in the paradise and potent spiritual energy of this unique location. \nNew to yoga? No problem! My teaching style meets you right where you’re at! All levels of yoga experience welcome! \nFor students enrolled in my AlignedLife Yoga Teacher Training Program- you receive daily workshops related to the most recent & relevant  YTT module ! (open to all guests) \n \nAll inclusive cost includes: \n\nAccommodations for 5 nights\, 6 days\nLocally sourced\, fresh\, plentiful homemade meals prepared daily\nUnlimited snacks\, coffee & tea\nDaily morning meditation & yoga\nGentle sunset yoga & yoga nidra\nManta Ray night swim *guided\nSalt Farm Tour\nMoon Circle Ceremony\n\nCost per person from $2600 – $3900 \nNot included: airfare\, car rental\, airport transport\, alcohol \nAvailable Accommodations & Cost: \nPrices have significantly increased since 2022 when we enjoyed our first post-pandemic retreat here at this beautiful\, sacred location. Please know\, that I’m offering you the best available pricing for what it takes to offer such a unique experience in an incredibly spectacular place in paradise with fresh whole foods\, deep healing and nourishment on all levels. \nThere are 6 bedrooms in main house (hale) & 4 shared or private cottages: \n2 Single Private Rooms in the main house: private bath /ocean view/private lanai $3800 *OR shared $3400 per person  \n4 Shared Rooms in the main house: 2 shared bathrooms/garden view/semi-private lanai $2600 or $2800 per person or $3200 private  \n4 Single Private Cottages: private bath\, kitchenette\, private deck\, ocean view $3900 *or shared $3500 per person \nCouples Welcome!  \nROOM DESCRIPTIONS  & PRICING \n \nIn the MAIN HOUSE: (Hale):  \nALL ROOMS BOOKED  Join the waitlist \nUPSTAIRS: \n\n2 Private or Shared rooms: 1 Q\, 1 Twin private bath\, ocean view\, private lanai -Double: $3400 per person or have all to yourself- $3800\n\nDOWNSTAIRS: \n\n2 Shared Rooms: 1 Q\, 1 Twin\, shared bath\, semi-private lanai\, garden view – $2600 per person or have all to yourself- $3200\n2 Shared Rooms:  1Q\, 1 Twin\, shared bath semi-private lanai\, garden view –$2800 per person or have all to yourself- $3400\n\n4 SWEET SECLUDED PRIVATE COTTAGES:  includes private bathroom/shower\, kitchenette\, private deck & ocean views \n\n1 Cottage for a single or couple: 1 Q bed -$3900/ Shared:$3500 per person\n3 Cottages for single or shared: 1 Q\, 1 Full (or twin)- $3900 /Shared: $3500 per person\n\nManta Ray Cottage \nKitchenette/Breakfast Nook in cottage \nTO RESERVE YOUR SPACE:  \nVenmo @jenny-rhodes-yoga OR Zelle @ 206-605-9086 \n $500 non-refundable deposit *email me your preferred room \n  \n Payment & Cancellation policy: \nTO RESERVE YOUR SPACE: \n$500 non-refundable deposit holds your space and preferred room \nThis deposit  is included in your all-inclusive retreat cost\,  less a $50 admin fee \nWays to pay:  Zelle @ 206-605-9086 or Venmo @jenny-rhodes-yoga \n\nYou’ll receive an invoice soon after you reserve your preferred space\nCustom payment plans are available\nIf cost is a barrier\, let’s talk- I have a few scholarship options available\nShared room? Please let me know who you’re rooming with\, via email after making your deposit\n\nPAYMENT PLAN: \n\nHalf your total payment due by October  1 2025\nBalance payment due byDecember 1\, 2025\nNo refunds allowable after Dec 1\, 2025\nif for any reason you need to cancel your reservation before 12/1/25  you’ll receive a refund\, less 10% (this excludes deposit)\n\n  \nTravel and Flight Details: \nFly into Kailua/Kona airport. Water Spirit Sanctuary is about 40 mins south of the Kona airport. \nPlease be aware that the retreat does not include transportation to and from airport to the retreat center.  You can either rent a car for that time (recommended) or taxi/Uber/Lyft (approx $150) \nSave on car rental by coordinating flights & carpooling to/from airport together \n  \nA Sample Day on Retreat: \n7:15 Morning Meditation \n7:45 coffee/tea/smoothie on the veranda \nYoga Studio \nView from dining lanai and yoga studio \nLush Grounds \n8:00 Yoga in the studio just off the veranda \n9:15 Breakfast \n\n		\n		\n			\n				\n			\n				\n				Kitchen\n				\n			\n				\n			\n				\n				Dining Lanai\n				\n			\n		\n\nFree time to explore\, walk down to the beach\, or stay onsite and relax. \n1:30 Lunch onsite\, or we’ll pack it up for you to go for your hike or beachy afternoon \n3:00-5:00 Deep Dive Workshop on a Yoga Philosophy\, Asana lab and Pranayama \n6:00 Sunset Yoga \n7:30 Dinner served buffet style \n8:30 Evening activity \nKitchen
URL:https://alignedyoga.net/event/big-island-yoga-retreat-2026/
LOCATION:Water Spirit Sanctuary\, hawaii
CATEGORIES:Event,Retreats
ATTACH;FMTTYPE=image/jpeg:https://alignedyoga.net/wp-content/uploads/2025/04/DJI_0686-2-scaled.jpg
END:VEVENT
END:VCALENDAR