BEGIN:VCALENDAR
VERSION:2.0
PRODID:-//Aligned Yoga with Jenny Rhodes - ECPv6.15.20//NONSGML v1.0//EN
CALSCALE:GREGORIAN
METHOD:PUBLISH
X-WR-CALNAME:Aligned Yoga with Jenny Rhodes
X-ORIGINAL-URL:https://alignedyoga.net
X-WR-CALDESC:Events for Aligned Yoga with Jenny Rhodes
REFRESH-INTERVAL;VALUE=DURATION:PT1H
X-Robots-Tag:noindex
X-PUBLISHED-TTL:PT1H
BEGIN:VTIMEZONE
TZID:America/Denver
BEGIN:DAYLIGHT
TZOFFSETFROM:-0700
TZOFFSETTO:-0600
TZNAME:MDT
DTSTART:20240310T090000
END:DAYLIGHT
BEGIN:STANDARD
TZOFFSETFROM:-0600
TZOFFSETTO:-0700
TZNAME:MST
DTSTART:20241103T080000
END:STANDARD
BEGIN:DAYLIGHT
TZOFFSETFROM:-0700
TZOFFSETTO:-0600
TZNAME:MDT
DTSTART:20250309T090000
END:DAYLIGHT
BEGIN:STANDARD
TZOFFSETFROM:-0600
TZOFFSETTO:-0700
TZNAME:MST
DTSTART:20251102T080000
END:STANDARD
BEGIN:DAYLIGHT
TZOFFSETFROM:-0700
TZOFFSETTO:-0600
TZNAME:MDT
DTSTART:20260308T090000
END:DAYLIGHT
BEGIN:STANDARD
TZOFFSETFROM:-0600
TZOFFSETTO:-0700
TZNAME:MST
DTSTART:20261101T080000
END:STANDARD
END:VTIMEZONE
BEGIN:VEVENT
DTSTART;TZID=America/Denver:20250727T100000
DTEND;TZID=America/Denver:20250727T111500
DTSTAMP:20260423T050211
CREATED:20250522T203833Z
LAST-MODIFIED:20250530T170215Z
UID:18022-1753610400-1753614900@alignedyoga.net
SUMMARY:Sunday Drop In Yoga
DESCRIPTION:SUNDAY DROP-IN YOGA \nThroughout June and July\, I’ll be offering drop-in yoga classes on Sundays. \nThe cost is $38 (includes tax/fees) per 60-minute class\, with the option to stay up to 30 minutes after class for a cuppa tea or a cold plunge. \nPre-registration is required and space is limited to 10 students for soulful\, sacred community in the sanctuary here at the Home Retreat🙌 \n\n10:00 am – 11:15 am\nJune 15\nJune 29\nJuly 13\nJuly 20\nJuly 27\n\nSign up below to save your spot!
URL:https://alignedyoga.net/event/sunday-drop-in-yoga-5/
LOCATION:Home Retreat Studio\, 319 NW 81ST STREET\, SEATTLE\, WA\, 98117\, United States
CATEGORIES:Classes,Drop-In Yoga
ATTACH;FMTTYPE=image/jpeg:https://alignedyoga.net/wp-content/uploads/2025/05/JRYogaF2472-1.jpeg
END:VEVENT
BEGIN:VEVENT
DTSTART;TZID=America/Denver:20250720T100000
DTEND;TZID=America/Denver:20250720T111500
DTSTAMP:20260423T050211
CREATED:20250522T203614Z
LAST-MODIFIED:20250710T193444Z
UID:18018-1753005600-1753010100@alignedyoga.net
SUMMARY:Sunday Drop In Yoga
DESCRIPTION:SUNDAY DROP-IN YOGA \nThroughout June and July\, I’ll be offering drop-in yoga classes on Sundays. \nThe cost is $38 (includes tax/fees) per 60-minute class\, with the option to stay up to 30 minutes after class for a cuppa tea or a cold plunge. \nPre-registration is required and space is limited to 10 students for soulful\, sacred community in the sanctuary here at the Home Retreat🙌 \n\n10:00 am – 11:15 am\nJune 15\nJune 29\nJuly 13\nJuly 20\nJuly 27\n\nSign up below to save your spot!
URL:https://alignedyoga.net/event/sunday-drop-in-yoga-4/
LOCATION:Home Retreat Studio\, 319 NW 81ST STREET\, SEATTLE\, WA\, 98117\, United States
CATEGORIES:Classes,Drop-In Yoga
ATTACH;FMTTYPE=image/jpeg:https://alignedyoga.net/wp-content/uploads/2025/05/JRYogaF2472-1.jpeg
END:VEVENT
BEGIN:VEVENT
DTSTART;TZID=America/Denver:20250713T100000
DTEND;TZID=America/Denver:20250713T111500
DTSTAMP:20260423T050211
CREATED:20250522T203407Z
LAST-MODIFIED:20250710T145502Z
UID:18014-1752400800-1752405300@alignedyoga.net
SUMMARY:Sunday Drop In Yoga
DESCRIPTION:SUNDAY DROP-IN YOGA \nThroughout June and July\, I’ll be offering drop-in yoga classes on Sundays. \nThe cost is $38 (includes tax/fees) per 60-minute class\, with the option to stay up to 30 minutes after class for a cuppa tea & homemade snack or a dip in the warm cedar soaking tub. (seats 4) \nPre-registration is required and space is limited to 10 students for soulful\, sacred community in the sanctuary here at the Home Retreat🙌 \n\n10:00 am – 11:15 am\nJune 15\nJune 29\nJuly 13\nJuly 20\nJuly 27\n\nSign up below to save your spot!
URL:https://alignedyoga.net/event/sunday-drop-in-yoga-3/
LOCATION:Home Retreat Studio\, 319 NW 81ST STREET\, SEATTLE\, WA\, 98117\, United States
CATEGORIES:Classes,Drop-In Yoga
ATTACH;FMTTYPE=image/jpeg:https://alignedyoga.net/wp-content/uploads/2025/05/JRYogaF2472-1.jpeg
END:VEVENT
BEGIN:VEVENT
DTSTART;TZID=America/Denver:20250629T100000
DTEND;TZID=America/Denver:20250629T111500
DTSTAMP:20260423T050211
CREATED:20250522T203010Z
LAST-MODIFIED:20250522T233501Z
UID:18008-1751191200-1751195700@alignedyoga.net
SUMMARY:Sunday Drop In Yoga
DESCRIPTION:SUNDAY DROP-IN YOGA \nThroughout June and July\, I’ll be offering drop-in yoga classes on Sundays. \nThe cost is $38 (includes tax/fees) per 60-minute class\, with the option to stay up to 30 minutes after class for a cuppa tea or a cold plunge. \nPre-registration is required and space is limited to 10 students for soulful\, sacred community in the sanctuary here at the Home Retreat🙌 \n\n10:00 am – 11:15 am\nJune 15\nJune 29\nJuly 13\nJuly 20\nJuly 27\n\nSign up below to save your spot!
URL:https://alignedyoga.net/event/sunday-drop-in-yoga-2/
LOCATION:Home Retreat Studio\, 319 NW 81ST STREET\, SEATTLE\, WA\, 98117\, United States
CATEGORIES:Classes,Drop-In Yoga
ATTACH;FMTTYPE=image/jpeg:https://alignedyoga.net/wp-content/uploads/2025/05/JRYogaF2472-1.jpeg
END:VEVENT
BEGIN:VEVENT
DTSTART;TZID=America/Denver:20250615T100000
DTEND;TZID=America/Denver:20250615T111500
DTSTAMP:20260423T050211
CREATED:20250522T201319Z
LAST-MODIFIED:20250613T203642Z
UID:18002-1749981600-1749986100@alignedyoga.net
SUMMARY:Sunday Drop In Yoga
DESCRIPTION:SUNDAY DROP-IN YOGA \nThroughout June and July\, I’ll be offering drop-in yoga classes on Sundays at 10am \nClasses are 75 mins with an optional 30 mins to spend enjoying a homemade nibble with tea in community\, or a warm plunge in the cedar soaking tub. \nThe cost is $38 (includes tax/fees) per 60-minute class\, with the option to stay up to 30 minutes after class for a cuppa tea or a cold plunge. \nPre-registration is required and space is limited 8-10  students for soulful\, sacred community in the sanctuary here at the Home Retreat🙌 \n\n10:00 am – 11:15 am\nJune 15\nJune 29\nJuly 13\nJuly 20\nJuly 27\n\nSign up below to save your spot!
URL:https://alignedyoga.net/event/sunday-drop-in-yoga/
LOCATION:Home Retreat Studio\, 319 NW 81ST STREET\, SEATTLE\, WA\, 98117\, United States
CATEGORIES:Classes,Drop-In Yoga
ATTACH;FMTTYPE=image/jpeg:https://alignedyoga.net/wp-content/uploads/2025/05/JRYogaF2472-1.jpeg
END:VEVENT
BEGIN:VEVENT
DTSTART;TZID=America/Denver:20250328T120000
DTEND;TZID=America/Denver:20250328T130000
DTSTAMP:20260423T050211
CREATED:20250305T023958Z
LAST-MODIFIED:20250305T205747Z
UID:17588-1743163200-1743166800@alignedyoga.net
SUMMARY:March Drop In Yoga
DESCRIPTION:MARCH DROP-IN YOGA \nThroughout March I’ll be offering drop-in yoga classes on various days. \nCost is $37 per 60 min class with the option to stay up to 30 mins after class for a cuppa tea or soak in the hot tub. \nPre-registration is required and space is limited to create a soulful\, sacred community in the sanctuary here at the Home Retreat🙌 \n\n\nThursday\, March 13th  6:30-7:30 pm\nFriday\, March 14th  12-1 pm\nThursday\, March 20th  6:30-7:30 pm\nFriday\, March 21th  12-1 pm\n\nThursday\, March 27th 6:30-7:30 pm\nFriday\, March 28th  12-1 pm \n\n\n\nSign up below to save your spot!
URL:https://alignedyoga.net/event/march-drop-in-yoga-4/
LOCATION:Home Retreat Studio\, 319 NW 81ST STREET\, SEATTLE\, WA\, 98117\, United States
CATEGORIES:Classes,Drop-In Yoga
ATTACH;FMTTYPE=image/jpeg:https://alignedyoga.net/wp-content/uploads/2025/02/Drop-In-Yoga.jpg
END:VEVENT
BEGIN:VEVENT
DTSTART;TZID=America/Denver:20250327T183000
DTEND;TZID=America/Denver:20250327T193000
DTSTAMP:20260423T050211
CREATED:20250305T025646Z
LAST-MODIFIED:20250305T205723Z
UID:17598-1743100200-1743103800@alignedyoga.net
SUMMARY:March Drop In Yoga
DESCRIPTION:MARCH DROP-IN YOGA \nThroughout March I’ll be offering drop-in yoga classes on various days. \nCost is $37 per 60 min class with the option to stay up to 30 mins after class for a cuppa tea or soak in the hot tub. \nPre-registration is required and space is limited to 6 students for soulful\, sacred community in the sanctuary here at the Home Retreat🙌 \n\nThursday\, March 13th  6:30-7:30 pm\nFriday\, March 14th  12-1 pm\nThursday\, March 20th  6:30-7:30 pm\nFriday\, March 21th  12-1 pm\n\nThursday\, March 27th 6:30-7:30 pm\nFriday\, March 28th  12-1 pm \n\n\nSign up below to save your spot!
URL:https://alignedyoga.net/event/march-drop-in-yoga-7/
LOCATION:Home Retreat Studio\, 319 NW 81ST STREET\, SEATTLE\, WA\, 98117\, United States
CATEGORIES:Classes,Drop-In Yoga
ATTACH;FMTTYPE=image/jpeg:https://alignedyoga.net/wp-content/uploads/2025/02/Drop-In-Yoga.jpg
END:VEVENT
BEGIN:VEVENT
DTSTART;TZID=America/Denver:20250321T120000
DTEND;TZID=America/Denver:20250321T130000
DTSTAMP:20260423T050211
CREATED:20250305T023815Z
LAST-MODIFIED:20250312T204435Z
UID:17585-1742558400-1742562000@alignedyoga.net
SUMMARY:March Drop In Yoga
DESCRIPTION:MARCH DROP-IN YOGA \nThroughout March I’ll be offering drop-in yoga classes on various days. \nCost is $37 per 60 min class with the option to stay up to 30 mins after class for a cuppa tea or soak in the hot tub. \nPre-registration is required and space is limited to 6 students for soulful\, sacred community in the sanctuary here at the Home Retreat🙌 \n\nThursday\, March 13th  6:30-7:30 pm\nFriday\, March 14th  12-1 pm\nThursday\, March 20th  6:30-7:30 pm\nFriday\, March 21th  12-1 pm\n\nThursday\, March 27th 6:30-7:30 pm\nFriday\, March 28th  12-1 pm \n\n\nSign up below to save your spot!
URL:https://alignedyoga.net/event/march-drop-in-yoga-3/
LOCATION:Home Retreat Studio\, 319 NW 81ST STREET\, SEATTLE\, WA\, 98117\, United States
CATEGORIES:Classes,Drop-In Yoga
ATTACH;FMTTYPE=image/jpeg:https://alignedyoga.net/wp-content/uploads/2025/02/Drop-In-Yoga.jpg
END:VEVENT
BEGIN:VEVENT
DTSTART;TZID=America/Denver:20250320T183000
DTEND;TZID=America/Denver:20250320T193000
DTSTAMP:20260423T050211
CREATED:20250305T025230Z
LAST-MODIFIED:20250305T205630Z
UID:17595-1742495400-1742499000@alignedyoga.net
SUMMARY:March Drop In Yoga
DESCRIPTION:MARCH DROP-IN YOGA \nThroughout March I’ll be offering drop-in yoga classes on various days. \nCost is $37 per 60 min class with the option to stay up to 30 mins after class for a cuppa tea or soak in the hot tub. \nPre-registration is required and space is limited to create a soulful\, sacred community in the sanctuary here at the Home Retreat🙌 \n\nThursday\, March 13th  6:30-7:30 pm\nFriday\, March 14th  12-1 pm\nThursday\, March 20th  6:30-7:30 pm\nFriday\, March 21th  12-1 pm\n\nThursday\, March 27th 6:30-7:30 pm\nFriday\, March 28th  12-1 pm \n\n\nSign up below to save your spot!
URL:https://alignedyoga.net/event/march-drop-in-yoga-6/
LOCATION:Home Retreat Studio\, 319 NW 81ST STREET\, SEATTLE\, WA\, 98117\, United States
CATEGORIES:Classes,Drop-In Yoga
ATTACH;FMTTYPE=image/jpeg:https://alignedyoga.net/wp-content/uploads/2025/02/Drop-In-Yoga.jpg
END:VEVENT
BEGIN:VEVENT
DTSTART;TZID=America/Denver:20250314T120000
DTEND;TZID=America/Denver:20250314T130000
DTSTAMP:20260423T050211
CREATED:20250305T023521Z
LAST-MODIFIED:20250312T204436Z
UID:17581-1741953600-1741957200@alignedyoga.net
SUMMARY:March Drop In Yoga
DESCRIPTION:MARCH DROP-IN YOGA \nThroughout March I’ll be offering drop-in yoga classes on various days. \nCost is $37 per 60 min class with the option to stay up to 30 mins after class for a cuppa tea or soak in the hot tub. \nPre-registration is required and space is limited to 6 students for soulful\, sacred community in the sanctuary here at the Home Retreat🙌 \n\nThursday\, March 13th  6:30-7:30 pm\nFriday\, March 14th  12-1 pm\nThursday\, March 20th  6:30-7:30 pm\nFriday\, March 21th  12-1 pm\n\nThursday\, March 27th 6:30-7:30 pm\nFriday\, March 28th  12-1 pm \n\n\nSign up below to save your spot!
URL:https://alignedyoga.net/event/march-drop-in-yoga-2/
LOCATION:Home Retreat Studio\, 319 NW 81ST STREET\, SEATTLE\, WA\, 98117\, United States
CATEGORIES:Classes,Drop-In Yoga
ATTACH;FMTTYPE=image/jpeg:https://alignedyoga.net/wp-content/uploads/2025/02/Drop-In-Yoga.jpg
END:VEVENT
BEGIN:VEVENT
DTSTART;TZID=America/Denver:20250313T183000
DTEND;TZID=America/Denver:20250313T193000
DTSTAMP:20260423T050211
CREATED:20250305T030527Z
LAST-MODIFIED:20250312T204724Z
UID:17604-1741890600-1741894200@alignedyoga.net
SUMMARY:March Drop In Yoga
DESCRIPTION:MARCH DROP-IN YOGA \nThroughout March I’ll be offering drop-in yoga classes on various days. \nCost is $37 per 60 min class with the option to stay up to 30 mins after class for a cuppa tea or soak in the hot tub. \nPre-registration is required and space is limited to create a soulful\, sacred community in the sanctuary here at the Home Retreat🙌 \nThursday\, March 13th  6:30-7:30 pm\nFriday\, March 14th  12-1 pm\nThursday\, March 20th  6:30-7:30 pm\nFriday\, March 21th  12-1 pm\n\nThursday\, March 27th 6:30-7:30 pm\nFriday\, March 28th  12-1 pm \n\nSign up below to save your spot!
URL:https://alignedyoga.net/event/march-drop-in-yoga-8/
LOCATION:Home Retreat Studio\, 319 NW 81ST STREET\, SEATTLE\, WA\, 98117\, United States
CATEGORIES:Classes,Drop-In Yoga
ATTACH;FMTTYPE=image/jpeg:https://alignedyoga.net/wp-content/uploads/2025/02/Drop-In-Yoga.jpg
END:VEVENT
END:VCALENDAR