BEGIN:VCALENDAR
VERSION:2.0
PRODID:-//Aligned Yoga with Jenny Rhodes - ECPv6.15.20//NONSGML v1.0//EN
CALSCALE:GREGORIAN
METHOD:PUBLISH
X-ORIGINAL-URL:https://alignedyoga.net
X-WR-CALDESC:Events for Aligned Yoga with Jenny Rhodes
REFRESH-INTERVAL;VALUE=DURATION:PT1H
X-Robots-Tag:noindex
X-PUBLISHED-TTL:PT1H
BEGIN:VTIMEZONE
TZID:America/Denver
BEGIN:DAYLIGHT
TZOFFSETFROM:-0700
TZOFFSETTO:-0600
TZNAME:MDT
DTSTART:20240310T090000
END:DAYLIGHT
BEGIN:STANDARD
TZOFFSETFROM:-0600
TZOFFSETTO:-0700
TZNAME:MST
DTSTART:20241103T080000
END:STANDARD
BEGIN:DAYLIGHT
TZOFFSETFROM:-0700
TZOFFSETTO:-0600
TZNAME:MDT
DTSTART:20250309T090000
END:DAYLIGHT
BEGIN:STANDARD
TZOFFSETFROM:-0600
TZOFFSETTO:-0700
TZNAME:MST
DTSTART:20251102T080000
END:STANDARD
BEGIN:DAYLIGHT
TZOFFSETFROM:-0700
TZOFFSETTO:-0600
TZNAME:MDT
DTSTART:20260308T090000
END:DAYLIGHT
BEGIN:STANDARD
TZOFFSETFROM:-0600
TZOFFSETTO:-0700
TZNAME:MST
DTSTART:20261101T080000
END:STANDARD
END:VTIMEZONE
BEGIN:VEVENT
DTSTART;TZID=America/Denver:20250908T093000
DTEND;TZID=America/Denver:20250908T103000
DTSTAMP:20260422T040142
CREATED:20250722T054225Z
LAST-MODIFIED:20250722T054225Z
UID:18398-1757323800-1757327400@alignedyoga.net
SUMMARY:Hatha
DESCRIPTION:Join Jenny at Aditi studio in the Wallingford Center \nSign up @ Aditi Studio
URL:https://alignedyoga.net/event/hatha-2/
LOCATION:Aditi Yoga & Wellness Studio\, 1815 N 45th Street\, Seattle\, WA\, 98103\, United States
CATEGORIES:Classes
ATTACH;FMTTYPE=image/png:https://alignedyoga.net/wp-content/uploads/2025/07/Aditi.png
END:VEVENT
BEGIN:VEVENT
DTSTART;TZID=America/Denver:20250908T110000
DTEND;TZID=America/Denver:20250908T120000
DTSTAMP:20260422T040142
CREATED:20250722T053605Z
LAST-MODIFIED:20250722T053605Z
UID:18390-1757329200-1757332800@alignedyoga.net
SUMMARY:Baby & Me
DESCRIPTION:Join Jenny at Aditi studio in the Wallingford Center \nSign up @ Aditi Studio
URL:https://alignedyoga.net/event/baby-me-3/
LOCATION:Aditi Yoga & Wellness Studio\, 1815 N 45th Street\, Seattle\, WA\, 98103\, United States
CATEGORIES:Classes
ATTACH;FMTTYPE=image/png:https://alignedyoga.net/wp-content/uploads/2025/07/Aditi.png
END:VEVENT
END:VCALENDAR