BEGIN:VCALENDAR
VERSION:2.0
PRODID:-//Aligned Yoga with Jenny Rhodes - ECPv6.15.20//NONSGML v1.0//EN
CALSCALE:GREGORIAN
METHOD:PUBLISH
X-ORIGINAL-URL:https://alignedyoga.net
X-WR-CALDESC:Events for Aligned Yoga with Jenny Rhodes
REFRESH-INTERVAL;VALUE=DURATION:PT1H
X-Robots-Tag:noindex
X-PUBLISHED-TTL:PT1H
BEGIN:VTIMEZONE
TZID:America/Denver
BEGIN:DAYLIGHT
TZOFFSETFROM:-0700
TZOFFSETTO:-0600
TZNAME:MDT
DTSTART:20200308T090000
END:DAYLIGHT
BEGIN:STANDARD
TZOFFSETFROM:-0600
TZOFFSETTO:-0700
TZNAME:MST
DTSTART:20201101T080000
END:STANDARD
BEGIN:DAYLIGHT
TZOFFSETFROM:-0700
TZOFFSETTO:-0600
TZNAME:MDT
DTSTART:20210314T090000
END:DAYLIGHT
BEGIN:STANDARD
TZOFFSETFROM:-0600
TZOFFSETTO:-0700
TZNAME:MST
DTSTART:20211107T080000
END:STANDARD
BEGIN:DAYLIGHT
TZOFFSETFROM:-0700
TZOFFSETTO:-0600
TZNAME:MDT
DTSTART:20220313T090000
END:DAYLIGHT
BEGIN:STANDARD
TZOFFSETFROM:-0600
TZOFFSETTO:-0700
TZNAME:MST
DTSTART:20221106T080000
END:STANDARD
BEGIN:DAYLIGHT
TZOFFSETFROM:-0700
TZOFFSETTO:-0600
TZNAME:MDT
DTSTART:20230312T090000
END:DAYLIGHT
BEGIN:STANDARD
TZOFFSETFROM:-0600
TZOFFSETTO:-0700
TZNAME:MST
DTSTART:20231105T080000
END:STANDARD
BEGIN:DAYLIGHT
TZOFFSETFROM:-0700
TZOFFSETTO:-0600
TZNAME:MDT
DTSTART:20240310T090000
END:DAYLIGHT
BEGIN:STANDARD
TZOFFSETFROM:-0600
TZOFFSETTO:-0700
TZNAME:MST
DTSTART:20241103T080000
END:STANDARD
END:VTIMEZONE
BEGIN:VEVENT
DTSTART;TZID=America/Denver:20210801T083000
DTEND;TZID=America/Denver:20210801T093000
DTSTAMP:20260424T063441
CREATED:20210730T134253Z
LAST-MODIFIED:20210730T134253Z
UID:11188-1627806600-1627810200@alignedyoga.net
SUMMARY:Prenatal Yoga
DESCRIPTION:
URL:https://alignedyoga.net/event/prenatal-yoga-3/
LOCATION:Aditi Yoga & Wellness Studio\, 1815 N 45th Street\, Seattle\, WA\, 98103\, United States
CATEGORIES:Classes
ATTACH;FMTTYPE=image/jpeg:https://alignedyoga.net/wp-content/uploads/2018/04/yoga-at-the-wall-workshop.jpg
END:VEVENT
BEGIN:VEVENT
DTSTART;TZID=America/Denver:20230618T100000
DTEND;TZID=America/Denver:20230618T110000
DTSTAMP:20260424T063441
CREATED:20230807T025555Z
LAST-MODIFIED:20230815T201847Z
UID:14997-1687082400-1687086000@alignedyoga.net
SUMMARY:Sunday Summer Yoga in the Park
DESCRIPTION:Join us Sundays 10am at Sandel Park in North Seattle \nClass runs until the weather holds out. \nSign up with The Grinning Yogi in Greenwood\, Seattle \n 
URL:https://alignedyoga.net/event/sunday-summer-yoga-in-the-park/
LOCATION:Sandel Park\, Seattle\, 9053 1st Ave NW\,\, Seattle\, WA\, 98117\, United States
CATEGORIES:Classes
ATTACH;FMTTYPE=image/png:https://alignedyoga.net/wp-content/uploads/2021/06/outdoor-yoga.png
END:VEVENT
END:VCALENDAR