BEGIN:VCALENDAR
VERSION:2.0
PRODID:-//Aligned Yoga with Jenny Rhodes - ECPv6.15.20//NONSGML v1.0//EN
CALSCALE:GREGORIAN
METHOD:PUBLISH
X-ORIGINAL-URL:https://alignedyoga.net
X-WR-CALDESC:Events for Aligned Yoga with Jenny Rhodes
REFRESH-INTERVAL;VALUE=DURATION:PT1H
X-Robots-Tag:noindex
X-PUBLISHED-TTL:PT1H
BEGIN:VTIMEZONE
TZID:America/Denver
BEGIN:DAYLIGHT
TZOFFSETFROM:-0700
TZOFFSETTO:-0600
TZNAME:MDT
DTSTART:20200308T090000
END:DAYLIGHT
BEGIN:STANDARD
TZOFFSETFROM:-0600
TZOFFSETTO:-0700
TZNAME:MST
DTSTART:20201101T080000
END:STANDARD
BEGIN:DAYLIGHT
TZOFFSETFROM:-0700
TZOFFSETTO:-0600
TZNAME:MDT
DTSTART:20210314T090000
END:DAYLIGHT
BEGIN:STANDARD
TZOFFSETFROM:-0600
TZOFFSETTO:-0700
TZNAME:MST
DTSTART:20211107T080000
END:STANDARD
BEGIN:DAYLIGHT
TZOFFSETFROM:-0700
TZOFFSETTO:-0600
TZNAME:MDT
DTSTART:20220313T090000
END:DAYLIGHT
BEGIN:STANDARD
TZOFFSETFROM:-0600
TZOFFSETTO:-0700
TZNAME:MST
DTSTART:20221106T080000
END:STANDARD
BEGIN:DAYLIGHT
TZOFFSETFROM:-0700
TZOFFSETTO:-0600
TZNAME:MDT
DTSTART:20230312T090000
END:DAYLIGHT
BEGIN:STANDARD
TZOFFSETFROM:-0600
TZOFFSETTO:-0700
TZNAME:MST
DTSTART:20231105T080000
END:STANDARD
BEGIN:DAYLIGHT
TZOFFSETFROM:-0700
TZOFFSETTO:-0600
TZNAME:MDT
DTSTART:20240310T090000
END:DAYLIGHT
BEGIN:STANDARD
TZOFFSETFROM:-0600
TZOFFSETTO:-0700
TZNAME:MST
DTSTART:20241103T080000
END:STANDARD
END:VTIMEZONE
BEGIN:VEVENT
DTSTART;TZID=America/Denver:20230520T080000
DTEND;TZID=America/Denver:20230527T170000
DTSTAMP:20260425T093514
CREATED:20220524T160115Z
LAST-MODIFIED:20230410T230939Z
UID:13407-1684569600-1685206800@alignedyoga.net
SUMMARY:Portugal Travel & Wellness Retreat-*SOLD OUT
DESCRIPTION:Cultural Immersion & Wellness Retreat in the Algarve\, Portugal  \nMay 20-27\, 2023 \nRegistration is CLOSED \n\n\n\n\n\n\n\n\n\n\n\n\nTravel & Wellness Retreat\nPortugal\n8-Day Retreat in the Algarve\, Portugal\nMay 20 – 27\, 2023\n$2\,799 per person\, double occupancy\n$3\,699 per person\, single occupancy\n\n\n\n\nDeposit amount of $300 per person\nFinal payment is due no later than February 20\, 2023.Enjoy daily wellness activities at the resort in the morning and local wine as the sun sets each day\, this single hotel stay is perfect for cultural immersion and relaxation.Call or email for more details!\ninfo@iamfit4travel.com\n754-457-9870\n\n\n\n\n\n\n \n\n\n\n 
URL:https://alignedyoga.net/event/portugal-wellness-retreat/
CATEGORIES:Retreats
ATTACH;FMTTYPE=image/jpeg:https://alignedyoga.net/wp-content/uploads/2022/05/Portugal-retreat.jpeg
END:VEVENT
BEGIN:VEVENT
DTSTART;TZID=America/Denver:20210727T080000
DTEND;TZID=America/Denver:20210727T090000
DTSTAMP:20260425T093514
CREATED:20210730T140123Z
LAST-MODIFIED:20210730T140123Z
UID:11192-1627372800-1627376400@alignedyoga.net
SUMMARY:Prenatal Yoga
DESCRIPTION:
URL:https://alignedyoga.net/event/prenatal-yoga-4/
LOCATION:Aditi Yoga & Wellness Studio\, 1815 N 45th Street\, Seattle\, WA\, 98103\, United States
CATEGORIES:Classes
ATTACH;FMTTYPE=image/jpeg:https://alignedyoga.net/wp-content/uploads/2018/04/yoga-at-the-wall-workshop.jpg
END:VEVENT
BEGIN:VEVENT
DTSTART;TZID=America/Denver:20210727T110000
DTEND;TZID=America/Denver:20210727T120000
DTSTAMP:20260425T093514
CREATED:20210730T135659Z
LAST-MODIFIED:20210730T135659Z
UID:11190-1627383600-1627387200@alignedyoga.net
SUMMARY:Postnatal Yoga & baby
DESCRIPTION:Postnatal yoga is all about you\, mama. Building core strength and community connection. \nWe work to safely rebuild pelvic floor and core health after baby. You’ll find calm in the chaos and re-connect with yourself in a way that is both nourishing and empowering. \nI’ll hold fussy babies while you get the self care you crave. \n 
URL:https://alignedyoga.net/event/postnatal-yoga-baby/
LOCATION:Aditi Yoga & Wellness Studio\, 1815 N 45th Street\, Seattle\, WA\, 98103\, United States
CATEGORIES:Classes
ATTACH;FMTTYPE=image/jpeg:https://alignedyoga.net/wp-content/uploads/2018/08/55B92716-A5DA-4978-B8E5-6B99F242F5B6-e1535782940368.jpeg
END:VEVENT
BEGIN:VEVENT
DTSTART;TZID=America/Denver:20211012T110000
DTEND;TZID=America/Denver:20211012T120000
DTSTAMP:20260425T093514
CREATED:20211008T210517Z
LAST-MODIFIED:20211008T210541Z
UID:11823-1634036400-1634040000@alignedyoga.net
SUMMARY:Postnatal Yoga with Baby
DESCRIPTION:Build back your core strength and focus on your postpartum pelvic health doing Yoga with your baby! \nOpen up your shoulders\, release upper back tension from holding and feeding baby\, learn lifting techniques\, and how to relax\, release\, strengthen and stretch. \nConnect with other moms-choose to attend virtually or in-person!
URL:https://alignedyoga.net/event/postnatal-yoga-with-baby/
LOCATION:aditi studio\, 1815 N 45th Street\, Seattle\, WA\, 98103
CATEGORIES:Classes
ATTACH;FMTTYPE=image/jpeg:https://alignedyoga.net/wp-content/uploads/2021/07/plank-e1627651875218.jpeg
END:VEVENT
END:VCALENDAR